BEGIN:VCALENDAR
VERSION:2.0
PRODID:-//Jesse Armendarez Second District Supervisor - ECPv6.15.14//NONSGML v1.0//EN
CALSCALE:GREGORIAN
METHOD:PUBLISH
X-WR-CALNAME:Jesse Armendarez Second District Supervisor
X-ORIGINAL-URL:https://bosd2.sbcounty.gov
X-WR-CALDESC:Events for Jesse Armendarez Second District Supervisor
REFRESH-INTERVAL;VALUE=DURATION:PT1H
X-Robots-Tag:noindex
X-PUBLISHED-TTL:PT1H
BEGIN:VTIMEZONE
TZID:UTC
BEGIN:STANDARD
TZOFFSETFROM:+0000
TZOFFSETTO:+0000
TZNAME:UTC
DTSTART:20230101T000000
END:STANDARD
END:VTIMEZONE
BEGIN:VEVENT
DTSTART;TZID=UTC:20240208T090000
DTEND;TZID=UTC:20240208T130000
DTSTAMP:20260425T032920
CREATED:20240208T053107Z
LAST-MODIFIED:20240208T053247Z
UID:10001730-1707382800-1707397200@bosd2.sbcounty.gov
SUMMARY:Hiring Event - Fontana
DESCRIPTION:
URL:https://bosd2.sbcounty.gov/event/hiring-event-fontana/
LOCATION:Jack Bulik Sports Center\, 16581 Filbert Street\, Fontana\, CA\, 92335\, United States
ATTACH;FMTTYPE=image/jpeg:https://bosd2.sbcounty.gov/wp-content/uploads/sites/64/2024/02/hiring-e1707341560864.jpg
END:VEVENT
END:VCALENDAR