BEGIN:VCALENDAR
VERSION:2.0
PRODID:-//Jesse Armendarez Second District Supervisor - ECPv6.15.14//NONSGML v1.0//EN
CALSCALE:GREGORIAN
METHOD:PUBLISH
X-WR-CALNAME:Jesse Armendarez Second District Supervisor
X-ORIGINAL-URL:https://bosd2.sbcounty.gov
X-WR-CALDESC:Events for Jesse Armendarez Second District Supervisor
REFRESH-INTERVAL;VALUE=DURATION:PT1H
X-Robots-Tag:noindex
X-PUBLISHED-TTL:PT1H
BEGIN:VTIMEZONE
TZID:UTC
BEGIN:STANDARD
TZOFFSETFROM:+0000
TZOFFSETTO:+0000
TZNAME:UTC
DTSTART:20230101T000000
END:STANDARD
END:VTIMEZONE
BEGIN:VEVENT
DTSTART;TZID=UTC:20240229T173000
DTEND;TZID=UTC:20240229T190000
DTSTAMP:20260425T121850
CREATED:20240221T063927Z
LAST-MODIFIED:20240221T063927Z
UID:10001739-1709227800-1709233200@bosd2.sbcounty.gov
SUMMARY:Ignite the Conversation
DESCRIPTION:
URL:https://bosd2.sbcounty.gov/event/ignite-the-conversation/
LOCATION:16980 Arrow Blvd.\, 16980 Arrow Blvd.\, Fontana\, CA\, 92335\, United States
ATTACH;FMTTYPE=image/jpeg:https://bosd2.sbcounty.gov/wp-content/uploads/sites/64/2024/02/2.29.24-Fontana-Jesse-e1708468754367.jpeg
END:VEVENT
END:VCALENDAR