BEGIN:VCALENDAR
VERSION:2.0
PRODID:-//Jesse Armendarez Second District Supervisor - ECPv6.15.14//NONSGML v1.0//EN
CALSCALE:GREGORIAN
METHOD:PUBLISH
X-WR-CALNAME:Jesse Armendarez Second District Supervisor
X-ORIGINAL-URL:https://bosd2.sbcounty.gov
X-WR-CALDESC:Events for Jesse Armendarez Second District Supervisor
REFRESH-INTERVAL;VALUE=DURATION:PT1H
X-Robots-Tag:noindex
X-PUBLISHED-TTL:PT1H
BEGIN:VTIMEZONE
TZID:America/Los_Angeles
BEGIN:DAYLIGHT
TZOFFSETFROM:-0800
TZOFFSETTO:-0700
TZNAME:PDT
DTSTART:20230312T100000
END:DAYLIGHT
BEGIN:STANDARD
TZOFFSETFROM:-0700
TZOFFSETTO:-0800
TZNAME:PST
DTSTART:20231105T090000
END:STANDARD
BEGIN:DAYLIGHT
TZOFFSETFROM:-0800
TZOFFSETTO:-0700
TZNAME:PDT
DTSTART:20240310T100000
END:DAYLIGHT
BEGIN:STANDARD
TZOFFSETFROM:-0700
TZOFFSETTO:-0800
TZNAME:PST
DTSTART:20241103T090000
END:STANDARD
BEGIN:DAYLIGHT
TZOFFSETFROM:-0800
TZOFFSETTO:-0700
TZNAME:PDT
DTSTART:20250309T100000
END:DAYLIGHT
BEGIN:STANDARD
TZOFFSETFROM:-0700
TZOFFSETTO:-0800
TZNAME:PST
DTSTART:20251102T090000
END:STANDARD
END:VTIMEZONE
BEGIN:VEVENT
DTSTART;TZID=America/Los_Angeles:20240620T173000
DTEND;TZID=America/Los_Angeles:20240620T190000
DTSTAMP:20260423T165445
CREATED:20240613T194432Z
LAST-MODIFIED:20240613T194432Z
UID:10001749-1718904600-1718910000@bosd2.sbcounty.gov
SUMMARY:Ignite the Conversation - Upland
DESCRIPTION:
URL:https://bosd2.sbcounty.gov/event/ignite-the-conversation-upland/
LOCATION:Fire Station 164\, 1825 N. Campus Ave.\, Upland\, 91784\, United States
ATTACH;FMTTYPE=image/jpeg:https://bosd2.sbcounty.gov/wp-content/uploads/sites/64/2024/06/7.20.24-Upland-Fire-Event-e1718307862394.jpg
END:VEVENT
END:VCALENDAR