BEGIN:VCALENDAR
VERSION:2.0
PRODID:-//Jesse Armendarez Second District Supervisor - ECPv6.15.14//NONSGML v1.0//EN
CALSCALE:GREGORIAN
METHOD:PUBLISH
X-WR-CALNAME:Jesse Armendarez Second District Supervisor
X-ORIGINAL-URL:https://bosd2.sbcounty.gov
X-WR-CALDESC:Events for Jesse Armendarez Second District Supervisor
REFRESH-INTERVAL;VALUE=DURATION:PT1H
X-Robots-Tag:noindex
X-PUBLISHED-TTL:PT1H
BEGIN:VTIMEZONE
TZID:UTC
BEGIN:STANDARD
TZOFFSETFROM:+0000
TZOFFSETTO:+0000
TZNAME:UTC
DTSTART:20220101T000000
END:STANDARD
END:VTIMEZONE
BEGIN:VEVENT
DTSTART;TZID=UTC:20231204T150000
DTEND;TZID=UTC:20231204T160000
DTSTAMP:20260425T093856
CREATED:20220201T021217Z
LAST-MODIFIED:20220201T021349Z
UID:10001151-1701702000-1701705600@bosd2.sbcounty.gov
SUMMARY:Ellie’s Workshop at the Upland Public Library
DESCRIPTION:An interactive craft hour where kids can come and make a variety of crafts with tons of fun supplies available to them. Stop by the second and fourth Wednesday of the month from 3-4 PM to make a craft or an art project that you can take home. Ellie’s Workshop is open to all those under 18. Children 6 and under need to be accompanied by their adult caregiver.
URL:https://bosd2.sbcounty.gov/event/ellies-workshop-at-the-upland-public-library/2023-12-04/
LOCATION:Upland Public Library\, 450 N Euclid Ave\, Upland\, CA\, 91786\, United States
END:VEVENT
BEGIN:VEVENT
DTSTART;TZID=UTC:20231205T100000
DTEND;TZID=UTC:20231205T120000
DTSTAMP:20260425T093856
CREATED:20221220T023408Z
LAST-MODIFIED:20230713T071550Z
UID:10001475-1701770400-1701777600@bosd2.sbcounty.gov
SUMMARY:County Board of Supervisor Meeting
DESCRIPTION:Regular Board of Supervisors meetings are held on Tuesdays in accordance with the adopted annual calendar. Board meetings begin with Closed Session at 9:00 a.m. and Public Session at 10:00 a.m
URL:https://bosd2.sbcounty.gov/event/county-board-of-supervisor-meeting-3-2023-03-14/2023-12-05/
LOCATION:Government Center\, 385 N. Arrowhead Ave.\, San Bernardino\, CA\, 92415-0110
CATEGORIES:Board Meetings
ATTACH;FMTTYPE=image/png:https://bosd2.sbcounty.gov/wp-content/uploads/sites/64/2023/07/mainOffice.png
END:VEVENT
BEGIN:VEVENT
DTSTART;TZID=UTC:20231212T170000
DTEND;TZID=UTC:20231212T190000
DTSTAMP:20260425T093856
CREATED:20231212T064446Z
LAST-MODIFIED:20231212T064703Z
UID:10001727-1702400400-1702407600@bosd2.sbcounty.gov
SUMMARY:Second District 1st Annual Holiday Jingle and Mingle
DESCRIPTION:
URL:https://bosd2.sbcounty.gov/event/second-district-1st-annual-holiday-jingle-and-mingle/
LOCATION:Vasari at Ventana\, 4800 Citrus Ave.\, Fontana\, CA\, 92336\, United States
ATTACH;FMTTYPE=image/png:https://bosd2.sbcounty.gov/wp-content/uploads/sites/64/2023/12/12.12.23-Jingle-and-Mingle-Flyer-2.png
END:VEVENT
BEGIN:VEVENT
DTSTART;TZID=UTC:20231218T150000
DTEND;TZID=UTC:20231218T160000
DTSTAMP:20260425T093856
CREATED:20220201T021217Z
LAST-MODIFIED:20220201T021349Z
UID:10001154-1702911600-1702915200@bosd2.sbcounty.gov
SUMMARY:Ellie’s Workshop at the Upland Public Library
DESCRIPTION:An interactive craft hour where kids can come and make a variety of crafts with tons of fun supplies available to them. Stop by the second and fourth Wednesday of the month from 3-4 PM to make a craft or an art project that you can take home. Ellie’s Workshop is open to all those under 18. Children 6 and under need to be accompanied by their adult caregiver.
URL:https://bosd2.sbcounty.gov/event/ellies-workshop-at-the-upland-public-library/2023-12-18/
LOCATION:Upland Public Library\, 450 N Euclid Ave\, Upland\, CA\, 91786\, United States
END:VEVENT
BEGIN:VEVENT
DTSTART;TZID=UTC:20231219T100000
DTEND;TZID=UTC:20231219T120000
DTSTAMP:20260425T093856
CREATED:20221220T023408Z
LAST-MODIFIED:20230713T071550Z
UID:10001478-1702980000-1702987200@bosd2.sbcounty.gov
SUMMARY:County Board of Supervisor Meeting
DESCRIPTION:Regular Board of Supervisors meetings are held on Tuesdays in accordance with the adopted annual calendar. Board meetings begin with Closed Session at 9:00 a.m. and Public Session at 10:00 a.m
URL:https://bosd2.sbcounty.gov/event/county-board-of-supervisor-meeting-3-2023-03-14/2023-12-19/
LOCATION:Government Center\, 385 N. Arrowhead Ave.\, San Bernardino\, CA\, 92415-0110
CATEGORIES:Board Meetings
ATTACH;FMTTYPE=image/png:https://bosd2.sbcounty.gov/wp-content/uploads/sites/64/2023/07/mainOffice.png
END:VEVENT
BEGIN:VEVENT
DTSTART;TZID=UTC:20231219T160000
DTEND;TZID=UTC:20231219T190000
DTSTAMP:20260425T093856
CREATED:20230317T050526Z
LAST-MODIFIED:20231219T045324Z
UID:10001514-1703001600-1703012400@bosd2.sbcounty.gov
SUMMARY:DCSS In Your Neighborhood
DESCRIPTION:General Child Support Overview​
URL:https://bosd2.sbcounty.gov/event/dcss-in-your-neighborhood/
LOCATION:Lewis Library\, 8437 Sierra Ave.\, Fontana\, CA\, 92335\, United States
ATTACH;FMTTYPE=image/jpeg:https://bosd2.sbcounty.gov/wp-content/uploads/sites/64/2023/07/Childs-hand.jpg
END:VEVENT
BEGIN:VEVENT
DTSTART;TZID=UTC:20231221T090000
DTEND;TZID=UTC:20231221T120000
DTSTAMP:20260425T093856
CREATED:20230322T231752Z
LAST-MODIFIED:20230713T071622Z
UID:10000905-1703149200-1703160000@bosd2.sbcounty.gov
SUMMARY:Hiring Event - West Valley America's Job Center of California
DESCRIPTION:Hiring event with a wide range of employers.\nRegister today and show ticket upon arrival!\nEmployers\, please contact San Bernardino County’s West Valley office to register.\nRegister here:  West Valley Hiring Event Registration
URL:https://bosd2.sbcounty.gov/event/hiring-event-west-valley-americas-job-center-of-california/2023-12-21/
LOCATION:West Valley America’s Job Center of California\, 9650 9th St. Suite B\, Rancho Cucamonga\, CA\, 91730\, United States
ATTACH;FMTTYPE=image/jpeg:https://bosd2.sbcounty.gov/wp-content/uploads/sites/64/2023/07/interview.jpg
END:VEVENT
BEGIN:VEVENT
DTSTART;VALUE=DATE:20231225
DTEND;VALUE=DATE:20231226
DTSTAMP:20260425T093856
CREATED:20230324T030929Z
LAST-MODIFIED:20230714T002458Z
UID:10001529-1703462400-1703548799@bosd2.sbcounty.gov
SUMMARY:Christmas Day - Federal Holiday
DESCRIPTION:
URL:https://bosd2.sbcounty.gov/event/christmas-day-federal-holiday/
ATTACH;FMTTYPE=image/jpeg:https://bosd2.sbcounty.gov/wp-content/uploads/sites/64/2023/07/happy-holidays.jpg
END:VEVENT
END:VCALENDAR