BEGIN:VCALENDAR
VERSION:2.0
PRODID:-//Jesse Armendarez Second District Supervisor - ECPv6.15.14//NONSGML v1.0//EN
CALSCALE:GREGORIAN
METHOD:PUBLISH
X-WR-CALNAME:Jesse Armendarez Second District Supervisor
X-ORIGINAL-URL:https://bosd2.sbcounty.gov
X-WR-CALDESC:Events for Jesse Armendarez Second District Supervisor
REFRESH-INTERVAL;VALUE=DURATION:PT1H
X-Robots-Tag:noindex
X-PUBLISHED-TTL:PT1H
BEGIN:VTIMEZONE
TZID:UTC
BEGIN:STANDARD
TZOFFSETFROM:+0000
TZOFFSETTO:+0000
TZNAME:UTC
DTSTART:20220101T000000
END:STANDARD
END:VTIMEZONE
BEGIN:VEVENT
DTSTART;TZID=UTC:20231028T150000
DTEND;TZID=UTC:20231028T200000
DTSTAMP:20260420T144819
CREATED:20230906T234208Z
LAST-MODIFIED:20231026T025943Z
UID:7353-1698505200-1698523200@bosd2.sbcounty.gov
SUMMARY:Scary-A-Faire - Upland
DESCRIPTION:
URL:https://bosd2.sbcounty.gov/event/scary-a-faire-upland/
ATTACH;FMTTYPE=image/jpeg:https://bosd2.sbcounty.gov/wp-content/uploads/sites/64/2023/10/HalloweenScaryFair.jpg
END:VEVENT
END:VCALENDAR